BEGIN:VCALENDAR
VERSION:2.0
PRODID:spatie/icalendar-generator
DESCRIPTION:Évènements de Beaulieu
X-WR-CALDESC:Évènements de Beaulieu
REFRESH-INTERVAL;VALUE=DURATION:PT1440M
X-PUBLISHED-TTL:PT1440M
BEGIN:VTIMEZONE
TZID:Europe/Paris
BEGIN:DAYLIGHT
DTSTART:20240331T020000Z
TZOFFSETFROM:+0100
TZOFFSETTO:+0200
END:DAYLIGHT
BEGIN:STANDARD
DTSTART:20241027T030000Z
TZOFFSETFROM:+0200
TZOFFSETTO:+0100
END:STANDARD
BEGIN:DAYLIGHT
DTSTART:20250330T020000Z
TZOFFSETFROM:+0100
TZOFFSETTO:+0200
END:DAYLIGHT
END:VTIMEZONE
BEGIN:VTIMEZONE
TZID:UTC
BEGIN:STANDARD
DTSTART:20250727T233756Z
TZOFFSETFROM:+0000
TZOFFSETTO:+0000
END:STANDARD
END:VTIMEZONE
BEGIN:VEVENT
UID:50-50
DTSTAMP:20260423T233756Z
SUMMARY:Déchets recyclables
LOCATION:
ORGANIZER;CN=Mairie:MAILTO:commune-de-beaulieu3@orange.fr
DTSTART;TZID=Europe/Paris;VALUE=DATE:20241108
DTEND;TZID=Europe/Paris;VALUE=DATE:20241109
X-ALT-DESC;FMTTYPE=TEXT/HTML:
CATEGORIES:Déchets recyclables
URL;VALUE=URI:https://mairiedebeaulieu.com/mc-events/dechets-recyclables-14
 /
METHOD:PUBLISH
END:VEVENT
END:VCALENDAR